BEGIN:VCALENDAR
VERSION:2.0
PRODID:-//Banjar Hindu Dharma Makassar - ECPv6.15.14//NONSGML v1.0//EN
CALSCALE:GREGORIAN
METHOD:PUBLISH
X-ORIGINAL-URL:https://banjarhindumakassar.org
X-WR-CALDESC:Events for Banjar Hindu Dharma Makassar
REFRESH-INTERVAL;VALUE=DURATION:PT1H
X-Robots-Tag:noindex
X-PUBLISHED-TTL:PT1H
BEGIN:VTIMEZONE
TZID:Asia/Makassar
BEGIN:STANDARD
TZOFFSETFROM:+0800
TZOFFSETTO:+0800
TZNAME:WITA
DTSTART:20210101T000000
END:STANDARD
END:VTIMEZONE
BEGIN:VEVENT
DTSTART;TZID=Asia/Makassar:20221018T080000
DTEND;TZID=Asia/Makassar:20221018T170000
DTSTAMP:20260424T230206
CREATED:20221018T145656Z
LAST-MODIFIED:20221018T150244Z
UID:1426-1666080000-1666112400@banjarhindumakassar.org
SUMMARY:Sangkepan Banjar Hindu Dharma Makassar Catur Wulan II / tahun 2022
DESCRIPTION:Yang Kami hormati\n– Bapak ibu Para Penasehat BHDM\n– Bapak ibu Para Pengurus BHDM\n– Bapak Ibu seluruh Warga BHDM \nSemoga kita semua dalam keadaan sehat dan selalu dalam lindungan Ida Sang Hyang Widhi Wasa \nBersama ini kami mengundang bapak/ibu semua untuk hadir dalam sangkepan Banjar Hindu Dharma Makassar (BHDM) Catur Wulan II / 2022 yang dimana terlebih dahulu akan diawali dengan persembahyangan bersama hari suci tilem pada : \nHari\, Tgl : Minggu\, 25 september 2022\nWaktu : 08.00 Wita – Selesai\nTempat : Kompleks Pura Giri Natha Makassar\nDresscode : Pakaian adat \nAgenda :\n– Penyampaian laporan kegiatan BHDM Catur Wulan II / 2022\n– Penyampaian laporan keuangan BHDM hingga akhir Catur Wulan II / 2022\n– Rencana kerja BHDM Catur Wulan III / 2022\n– dll yang dianggap penting \nDemikian informasi ini kami sampaikan untuk menjadi perhatian kita semua. Dan sekedar informasi tambahan\, bahwa kami telah menyiapkan beberapa hadiah menarik bagi bapak/ibu yg beruntung. \nTerima Kasih\nOM Santi Santi Santi OM \nTtd\nKetua BHDM\nI Made Semadi S.Sos
URL:https://banjarhindumakassar.org/agenda/sangkepan-banjar-hindu-dharma-makassar-catur-wulan-ii-tahun-2022/
LOCATION:Pura Giri Natha Makassar\, Pura Giri Natha\, Jalan Perintis Kemerdekaan KM 12\, Makassar\, Sulawesi Selatan\, Indonesia
CATEGORIES:Rapat
ATTACH;FMTTYPE=image/jpeg:https://banjarhindumakassar.org/wp-content/uploads/2022/10/banjar-hindu-makassar-1.jpg
END:VEVENT
END:VCALENDAR