BEGIN:VCALENDAR
VERSION:2.0
PRODID:-//Banjar Hindu Dharma Makassar - ECPv6.15.14//NONSGML v1.0//EN
CALSCALE:GREGORIAN
METHOD:PUBLISH
X-WR-CALNAME:Banjar Hindu Dharma Makassar
X-ORIGINAL-URL:https://banjarhindumakassar.org
X-WR-CALDESC:Events for Banjar Hindu Dharma Makassar
REFRESH-INTERVAL;VALUE=DURATION:PT1H
X-Robots-Tag:noindex
X-PUBLISHED-TTL:PT1H
BEGIN:VTIMEZONE
TZID:Asia/Makassar
BEGIN:STANDARD
TZOFFSETFROM:+0800
TZOFFSETTO:+0800
TZNAME:WITA
DTSTART:20210101T000000
END:STANDARD
END:VTIMEZONE
BEGIN:VEVENT
DTSTART;TZID=Asia/Makassar:20221022T170000
DTEND;TZID=Asia/Makassar:20221022T210000
DTSTAMP:20260423T111502
CREATED:20221019T004442Z
LAST-MODIFIED:20221019T004442Z
UID:1438-1666458000-1666472400@banjarhindumakassar.org
SUMMARY:Hari Raya Saraswati
DESCRIPTION:Hari Raya Saraswati adalah hari turunnya Ilmu Pengetahuan. Umat Hindu Dharma di Bali merayakannya setiap 210 hari\, dengan menggunakan perhitungan kalender Bali pada Sabtu\, Umanis\, Watugunung. Pada hari saraswati dilakukan pemujaan pada Dewi Saraswati sebagai Dewi Ilmu Pengetahuan dan Seni. \n  \nJadwal Persembahyangan : \nSabtu\, 22 Okotber 2022. \nPukul : 17:00 WITA – selesai
URL:https://banjarhindumakassar.org/agenda/hari-raya-saraswati/
LOCATION:Pura Giri Natha Makassar\, Pura Giri Natha\, Jalan Perintis Kemerdekaan KM 12\, Makassar\, Sulawesi Selatan\, Indonesia
CATEGORIES:Hari Raya
ATTACH;FMTTYPE=image/jpeg:https://banjarhindumakassar.org/wp-content/uploads/2022/10/Hari-Raya-Saraswati.jpg
END:VEVENT
END:VCALENDAR